BEGIN:VCALENDAR
VERSION:2.0
PRODID:icalendar-ruby
CALSCALE:GREGORIAN
METHOD:PUBLISH
BEGIN:VEVENT
DTSTAMP:20260421T124945Z
UID:30-1372297@highwaychurch.co
DTSTART;VALUE=DATE:20260515
DTEND;VALUE=DATE:20260515
CLASS:PUBLIC
CREATED:20260421T112658
DESCRIPTION:Are you a woman in our congregation? Pastor Pauline invites you
  to join her for a connect session on Friday May 15. There are two session
 s at 10am and 7pm. Pick the one that suits you and come along! No registra
 tion or RSVP needed. 
LAST-MODIFIED:20260421T112658
LOCATION:Highway Church
SUMMARY:Women's Connect
URL;VALUE=URI:https://highwaychurch.co/events/womens-connect/2026-05-15
ATTACH;FILENAME=Cuppa-%26-connect-2.png;FMTTYPE=image/png:https://dq5pwpg1q
 8ru0.cloudfront.net/2026/04/21/01/56/58/345ccb68-3788-43c9-99aa-f677588dc2
 ef/Cuppa-%2526-connect-2.png
END:VEVENT
END:VCALENDAR
